BEGIN:VCALENDAR
VERSION:2.0
PRODID:-//National Center for Families Learning - ECPv6.15.20//NONSGML v1.0//EN
CALSCALE:GREGORIAN
METHOD:PUBLISH
X-ORIGINAL-URL:https://familieslearning.org
X-WR-CALDESC:Events for National Center for Families Learning
REFRESH-INTERVAL;VALUE=DURATION:PT1H
X-Robots-Tag:noindex
X-PUBLISHED-TTL:PT1H
BEGIN:VTIMEZONE
TZID:America/Kentucky/Louisville
BEGIN:DAYLIGHT
TZOFFSETFROM:-0500
TZOFFSETTO:-0400
TZNAME:EDT
DTSTART:20240310T070000
END:DAYLIGHT
BEGIN:STANDARD
TZOFFSETFROM:-0400
TZOFFSETTO:-0500
TZNAME:EST
DTSTART:20241103T060000
END:STANDARD
BEGIN:DAYLIGHT
TZOFFSETFROM:-0500
TZOFFSETTO:-0400
TZNAME:EDT
DTSTART:20250309T070000
END:DAYLIGHT
BEGIN:STANDARD
TZOFFSETFROM:-0400
TZOFFSETTO:-0500
TZNAME:EST
DTSTART:20251102T060000
END:STANDARD
BEGIN:DAYLIGHT
TZOFFSETFROM:-0500
TZOFFSETTO:-0400
TZNAME:EDT
DTSTART:20260308T070000
END:DAYLIGHT
BEGIN:STANDARD
TZOFFSETFROM:-0400
TZOFFSETTO:-0500
TZNAME:EST
DTSTART:20261101T060000
END:STANDARD
END:VTIMEZONE
BEGIN:VEVENT
DTSTART;TZID=America/Kentucky/Louisville:20250828T110000
DTEND;TZID=America/Kentucky/Louisville:20250828T120000
DTSTAMP:20260421T053905
CREATED:20250723T200254Z
LAST-MODIFIED:20250729T123908Z
UID:10000098-1756378800-1756382400@familieslearning.org
SUMMARY:Webinar | From Barriers to Bridges: Understanding Immigrant Families’ Digital Literacy Practices
DESCRIPTION:Immigrant families exercise diverse\, productive\, and often overlooked digital literacy practices. In this presentation\, we’ll explore the unique and productive ways immigrant families exercise digital literacy at home. We’ll also share strategies and free resources that can help your program adopt an asset-based approach to supporting these families in navigating digital landscapes. Join us to discuss and share! \nREGISTER NOW\nSpeakers: \nRachel Riggs\, MATESOL\, works on various research\, professional development\, and digital learning initiatives as a Technical Advisor at World Education. Before joining World Education\, she taught ESOL in an adult education program\, transitioning her family literacy classes online during the pandemic. Rachel focuses on promoting digital equity and supporting educators in their use of technology. She is national adult education leader on digital skills\, artificial intelligence\, and professional development to support the open education movement. Rachel leads monthly EdTech Strategy Sessions for adult educators across the U.S. \n  \n  \nAlexis Cherewka is an adult educator\, researcher\, and technical assistance provider with 10 years of experience. Her research interests focus on how adult educators and adult education and family literacy policy can support a more equitable educational experience for all adult learners and their families.
URL:https://familieslearning.org/event/webinar-from-barriers-to-bridges-understanding-immigrant-families-digital-literacy-practices/
CATEGORIES:Webinar
ATTACH;FMTTYPE=image/jpeg:https://familieslearning.org/wp-content/uploads/2025/07/NCFLΓCoFY25-Webinar-Series-Social-Aug-H2.jpg
END:VEVENT
END:VCALENDAR