BEGIN:VCALENDAR
VERSION:2.0
PRODID:-//National Center for Families Learning - ECPv6.15.20//NONSGML v1.0//EN
CALSCALE:GREGORIAN
METHOD:PUBLISH
X-ORIGINAL-URL:https://familieslearning.org
X-WR-CALDESC:Events for National Center for Families Learning
REFRESH-INTERVAL;VALUE=DURATION:PT1H
X-Robots-Tag:noindex
X-PUBLISHED-TTL:PT1H
BEGIN:VTIMEZONE
TZID:America/Kentucky/Louisville
BEGIN:DAYLIGHT
TZOFFSETFROM:-0500
TZOFFSETTO:-0400
TZNAME:EDT
DTSTART:20240310T070000
END:DAYLIGHT
BEGIN:STANDARD
TZOFFSETFROM:-0400
TZOFFSETTO:-0500
TZNAME:EST
DTSTART:20241103T060000
END:STANDARD
BEGIN:DAYLIGHT
TZOFFSETFROM:-0500
TZOFFSETTO:-0400
TZNAME:EDT
DTSTART:20250309T070000
END:DAYLIGHT
BEGIN:STANDARD
TZOFFSETFROM:-0400
TZOFFSETTO:-0500
TZNAME:EST
DTSTART:20251102T060000
END:STANDARD
BEGIN:DAYLIGHT
TZOFFSETFROM:-0500
TZOFFSETTO:-0400
TZNAME:EDT
DTSTART:20260308T070000
END:DAYLIGHT
BEGIN:STANDARD
TZOFFSETFROM:-0400
TZOFFSETTO:-0500
TZNAME:EST
DTSTART:20261101T060000
END:STANDARD
END:VTIMEZONE
BEGIN:VEVENT
DTSTART;VALUE=DATE:20251102
DTEND;VALUE=DATE:20251106
DTSTAMP:20260424T012506
CREATED:20250130T191513Z
LAST-MODIFIED:20250130T191525Z
UID:10000091-1762041600-1762387199@familieslearning.org
SUMMARY:2025 Families Learning Conference
DESCRIPTION:Join your peers from around the country at the 2025 Families Learning Conference\, happening November 2-5 in Charlotte\, North Carolina. The Families Learning Conference is for passionate people looking for innovative learning strategies and resources to support families in reaching their academic and economic goals. Attendees will: \n\ndiscover best practices to create equitable and relevant family learning experiences\ngain access to a national network of family-facing professionals\, researchers\, policymakers\, and funders\nfind inspiration and renewed energy for their work\n\nVisit the Families Learning Conference website to learn more.
URL:https://familieslearning.org/event/2025-families-learning-conference-2/
CATEGORIES:Conference
ATTACH;FMTTYPE=image/jpeg:https://familieslearning.org/wp-content/uploads/2025/01/FLC24–11-20-11_15-am–Weds-production.pptx.jpg
END:VEVENT
BEGIN:VEVENT
DTSTART;TZID=America/Kentucky/Louisville:20251125T140000
DTEND;TZID=America/Kentucky/Louisville:20251125T150000
DTSTAMP:20260424T012506
CREATED:20251024T172726Z
LAST-MODIFIED:20251027T194636Z
UID:10000101-1764079200-1764082800@familieslearning.org
SUMMARY:National Webinar Series | Learning Together: How an NCFL Partnership Shaped a School\, a Leader\, and a Community
DESCRIPTION:Megan Singh\, the 2024 Toyota Family Teacher of the Year\, will describe how a partnership with the National Center for Families Learning (NCFL) transformed Enlace Academy’s family literacy programming. She will also share how the collaboration supported her professional growth as a novice administrator. The presentation will examine the program’s structure prior to the partnership\, the decision to engage with NCFL\, and the resulting outcomes for families\, educators\, and community stakeholders. It will also highlight how the Toyota Family Teacher of the Year recognition and funding advanced program sustainability\, innovation\, and family-centered literacy practices through strategic partnership. \nREGISTER NOW\nSpeaker: \nMegan Singh is an ML Teacher and family literacy leader at Enlace Academy\, a K–8 charter school in Indianapolis. She holds a Master of Arts in Teaching English to Speakers of Other Languages from IU Indianapolis and is currently pursuing her EdD in Adult and Community Education at Ball State University. Recognized as the 2024 Toyota Family Teacher of the Year\, she also serves as the Representative for Adult and Community Education on the Indiana Teachers of English to Speakers of Other Languages (INTESOL) Board. Megan is dedicated to advancing and contributing to a collaborative network of family literacy practitioners.
URL:https://familieslearning.org/event/national-webinar-series-learning-together-how-an-ncfl-partnership-shaped-a-school-a-leader-and-a-community/
CATEGORIES:Webinar
ATTACH;FMTTYPE=image/png:https://familieslearning.org/wp-content/uploads/2025/10/Nov-2025-Webinar-graphic.png
END:VEVENT
END:VCALENDAR