BEGIN:VCALENDAR
VERSION:2.0
PRODID:-//National Center for Families Learning - ECPv6.15.20//NONSGML v1.0//EN
CALSCALE:GREGORIAN
METHOD:PUBLISH
X-ORIGINAL-URL:https://familieslearning.org
X-WR-CALDESC:Events for National Center for Families Learning
REFRESH-INTERVAL;VALUE=DURATION:PT1H
X-Robots-Tag:noindex
X-PUBLISHED-TTL:PT1H
BEGIN:VTIMEZONE
TZID:America/Kentucky/Louisville
BEGIN:DAYLIGHT
TZOFFSETFROM:-0500
TZOFFSETTO:-0400
TZNAME:EDT
DTSTART:20240310T070000
END:DAYLIGHT
BEGIN:STANDARD
TZOFFSETFROM:-0400
TZOFFSETTO:-0500
TZNAME:EST
DTSTART:20241103T060000
END:STANDARD
BEGIN:DAYLIGHT
TZOFFSETFROM:-0500
TZOFFSETTO:-0400
TZNAME:EDT
DTSTART:20250309T070000
END:DAYLIGHT
BEGIN:STANDARD
TZOFFSETFROM:-0400
TZOFFSETTO:-0500
TZNAME:EST
DTSTART:20251102T060000
END:STANDARD
BEGIN:DAYLIGHT
TZOFFSETFROM:-0500
TZOFFSETTO:-0400
TZNAME:EDT
DTSTART:20260308T070000
END:DAYLIGHT
BEGIN:STANDARD
TZOFFSETFROM:-0400
TZOFFSETTO:-0500
TZNAME:EST
DTSTART:20261101T060000
END:STANDARD
END:VTIMEZONE
BEGIN:VEVENT
DTSTART;TZID=America/Kentucky/Louisville:20251218T130000
DTEND;TZID=America/Kentucky/Louisville:20251218T140000
DTSTAMP:20260424T025624
CREATED:20251120T142519Z
LAST-MODIFIED:20251125T162626Z
UID:10000102-1766062800-1766066400@familieslearning.org
SUMMARY:National Webinar Series | Beyond Participation: Exploring the Road to Family Partnerships framework
DESCRIPTION:The Road to Family Partnerships framework illustrates a developmental journey from traditional\, school-directed participation toward authentic\, shared leadership between families and schools. This presentation guides participants through each stage of the Roadmap\, Parent Participation\, Parent Involvement\, Family Engagement\, and ultimately Family Partnership\, highlighting how everyday interactions can either reinforce one-way communication or create opportunities for collaboration\, trust\, and shared responsibility. Using a strengths-based and culturally responsive lens\, the session explores practical strategies for building two-way communication\, supporting family voice in decision-making\, and developing sustainable structures where families serve as co-creators of school policies\, programs\, and student success. Attendees will leave with tools and reflective practices that help shift school culture from isolated events toward holistic\, community-centered partnership that honors family expertise and strengthens outcomes for all learners. \nREGISTER NOW\nSpeaker: \n \nEstrella Ruiz\, MSW\, LSW. As the Family Coordinator for the Departments of Access\, Opportunity\, and Family Partnership and Culturally and Linguistically Diverse Education\, Estrella leads transformative work centered on strengthening relationships between families and schools. Her approach is grounded in the belief that true partnership is a developmental process\, one that evolves from participation to involvement\, to engagement\, and ultimately to shared leadership. With a Bachelor’s and Master’s in Social Work\, Estrella designs and facilitates district-wide and statewide trainings that help educators build culturally responsive practices\, two-way communication systems\, and structures that elevate family expertise in decision-making. Her work emphasizes shifting school culture from isolated\, school-directed events toward holistic\, community-centered partnerships where families and educators serve as co-creators of student success. Beyond her district role\, Estrella organizes community initiatives\, and participates in boards and committees dedicated to equity and social justice. Her leadership continues to create spaces where families feel valued\, heard\, and empowered.
URL:https://familieslearning.org/event/national-webinar-series-beyond-participation-exploring-the-road-to-family-partnerships-framework/
CATEGORIES:Webinar
ATTACH;FMTTYPE=image/png:https://familieslearning.org/wp-content/uploads/2025/11/Horizontal–Webinar-Series-Template-1.png
END:VEVENT
END:VCALENDAR