BEGIN:VCALENDAR
VERSION:2.0
PRODID:-//National Center for Families Learning - ECPv6.15.20//NONSGML v1.0//EN
CALSCALE:GREGORIAN
METHOD:PUBLISH
X-ORIGINAL-URL:https://familieslearning.org
X-WR-CALDESC:Events for National Center for Families Learning
REFRESH-INTERVAL;VALUE=DURATION:PT1H
X-Robots-Tag:noindex
X-PUBLISHED-TTL:PT1H
BEGIN:VTIMEZONE
TZID:America/Kentucky/Louisville
BEGIN:DAYLIGHT
TZOFFSETFROM:-0500
TZOFFSETTO:-0400
TZNAME:EDT
DTSTART:20250309T070000
END:DAYLIGHT
BEGIN:STANDARD
TZOFFSETFROM:-0400
TZOFFSETTO:-0500
TZNAME:EST
DTSTART:20251102T060000
END:STANDARD
BEGIN:DAYLIGHT
TZOFFSETFROM:-0500
TZOFFSETTO:-0400
TZNAME:EDT
DTSTART:20260308T070000
END:DAYLIGHT
BEGIN:STANDARD
TZOFFSETFROM:-0400
TZOFFSETTO:-0500
TZNAME:EST
DTSTART:20261101T060000
END:STANDARD
BEGIN:DAYLIGHT
TZOFFSETFROM:-0500
TZOFFSETTO:-0400
TZNAME:EDT
DTSTART:20270314T070000
END:DAYLIGHT
BEGIN:STANDARD
TZOFFSETFROM:-0400
TZOFFSETTO:-0500
TZNAME:EST
DTSTART:20271107T060000
END:STANDARD
END:VTIMEZONE
BEGIN:VEVENT
DTSTART;TZID=America/Kentucky/Louisville:20260224T140000
DTEND;TZID=America/Kentucky/Louisville:20260224T150000
DTSTAMP:20260422T030015
CREATED:20260204T145902Z
LAST-MODIFIED:20260206T162555Z
UID:10000104-1771941600-1771945200@familieslearning.org
SUMMARY:National Webinar Series | Breaking Silos with Intentionality: Connecting Families and Policy
DESCRIPTION:Nearly half of American families with children under six are struggling to meet at least one basic need\, according to new data from the Stanford Center on Early Childhood. How can families\, educators\, and community members work together to develop policy that helps families meet their needs? Join NCFL’s next webinar on February 24 where we’ll welcome Dr. Mary E. González\, PhD\, Texas state representative for eastern El Paso County. As a non-profit executive director and state legislator\, Rep. González will share the power of breaking silos and practical strategies for implementation. \nREGISTER NOW\nSpeaker:  \n \nState Representative Mary E. González\, PhD is in her seventh term representing House District 75\, including much of eastern El Paso County. While in office\, Dr. González has passed legislation to improve public schools\, support agriculture\, and become a leader on the state budget. She is Vice Chair of the House Appropriations Committee and sits on the Natural Resource Committee. Rep. González is the Chair of the Board of Latino Legislative Leaders. Rep. González received a presidential appointment to the Board of Directors of the North American Development Bank. Dr. González received her bachelor’s degree from the University of Texas at Austin\, her master’s from St. Edward’s University\, and her doctorate in Curriculum and Instruction from UT-Austin. Rep. González currently works as Executive Director for MASBA and an adjunct professor at St. Edwards University.
URL:https://familieslearning.org/event/national-webinar-series-breaking-silos-with-intentionality-connecting-families-and-policy/
CATEGORIES:Webinar
ATTACH;FMTTYPE=image/png:https://familieslearning.org/wp-content/uploads/2026/02/Horizontal–Webinar-Series-Template-2.png
END:VEVENT
END:VCALENDAR